BEGIN:VCALENDAR
VERSION:2.0
PRODID:-//Janny&#039;s Brocante - ECPv6.15.20//NONSGML v1.0//EN
CALSCALE:GREGORIAN
METHOD:PUBLISH
X-WR-CALNAME:Janny&#039;s Brocante
X-ORIGINAL-URL:https://jannysbrocante.nl
X-WR-CALDESC:Evenementen voor Janny&#039;s Brocante
REFRESH-INTERVAL;VALUE=DURATION:PT1H
X-Robots-Tag:noindex
X-PUBLISHED-TTL:PT1H
BEGIN:VTIMEZONE
TZID:Europe/Amsterdam
BEGIN:DAYLIGHT
TZOFFSETFROM:+0100
TZOFFSETTO:+0200
TZNAME:CEST
DTSTART:20240331T010000
END:DAYLIGHT
BEGIN:STANDARD
TZOFFSETFROM:+0200
TZOFFSETTO:+0100
TZNAME:CET
DTSTART:20241027T010000
END:STANDARD
BEGIN:DAYLIGHT
TZOFFSETFROM:+0100
TZOFFSETTO:+0200
TZNAME:CEST
DTSTART:20250330T010000
END:DAYLIGHT
BEGIN:STANDARD
TZOFFSETFROM:+0200
TZOFFSETTO:+0100
TZNAME:CET
DTSTART:20251026T010000
END:STANDARD
BEGIN:DAYLIGHT
TZOFFSETFROM:+0100
TZOFFSETTO:+0200
TZNAME:CEST
DTSTART:20260329T010000
END:DAYLIGHT
BEGIN:STANDARD
TZOFFSETFROM:+0200
TZOFFSETTO:+0100
TZNAME:CET
DTSTART:20261025T010000
END:STANDARD
BEGIN:DAYLIGHT
TZOFFSETFROM:+0100
TZOFFSETTO:+0200
TZNAME:CEST
DTSTART:20270328T010000
END:DAYLIGHT
BEGIN:STANDARD
TZOFFSETFROM:+0200
TZOFFSETTO:+0100
TZNAME:CET
DTSTART:20271031T010000
END:STANDARD
END:VTIMEZONE
BEGIN:VEVENT
DTSTART;VALUE=DATE:20260412
DTEND;VALUE=DATE:20260413
DTSTAMP:20260419T213719
CREATED:20230308T194323Z
LAST-MODIFIED:20250408T084235Z
UID:692-1775952000-1776038399@jannysbrocante.nl
SUMMARY:Brocante in Kevelaar
DESCRIPTION:
URL:https://jannysbrocante.nl/event/brocante-in-kevelaar/
LOCATION:Kevelaar\, Luxemburgplatz\, Kevelaar\, Duitsland
CATEGORIES:Waar staan wij?
ATTACH;FMTTYPE=image/jpeg:https://jannysbrocante.nl/wp-content/uploads/2025/01/20230416_141629-scaled-e1737786366154.jpg
END:VEVENT
BEGIN:VEVENT
DTSTART;VALUE=DATE:20260405
DTEND;VALUE=DATE:20260407
DTSTAMP:20260419T213719
CREATED:20240113T054158Z
LAST-MODIFIED:20260117T085502Z
UID:1048-1775354400-1775440799@jannysbrocante.nl
SUMMARY:Grande paasbrocante
DESCRIPTION:
URL:https://jannysbrocante.nl/event/grande-paas-brocante/
LOCATION:Brocante aan de ijsel\, Brink\, Deventer
CATEGORIES:Waar staan wij?
ATTACH;FMTTYPE=image/jpeg:https://jannysbrocante.nl/wp-content/uploads/2025/01/PSX_20250125_073655-e1737787074438.jpg
END:VEVENT
BEGIN:VEVENT
DTSTART;VALUE=DATE:20260328
DTEND;VALUE=DATE:20260330
DTSTAMP:20260419T213719
CREATED:20260113T204630Z
LAST-MODIFIED:20260118T142935Z
UID:1206-1774656000-1774828799@jannysbrocante.nl
SUMMARY:Voorjaar op kasteel Daelenbroeck
DESCRIPTION:
URL:https://jannysbrocante.nl/event/voorjaar-op-kasteel-daelenbroeck/
LOCATION:kasteel Dalenbroeck\, Kasteellaan 2\, Herkenbosch\, 6075EZ
CATEGORIES:Waar staan wij?
ATTACH;FMTTYPE=image/jpeg:https://jannysbrocante.nl/wp-content/uploads/2024/11/PSX_20250124_233047-e1737757957590.jpg
END:VEVENT
BEGIN:VEVENT
DTSTART;VALUE=DATE:20260301
DTEND;VALUE=DATE:20260302
DTSTAMP:20260419T213719
CREATED:20260114T203223Z
LAST-MODIFIED:20260118T143024Z
UID:1197-1772323200-1772409599@jannysbrocante.nl
SUMMARY:Fair Enkhuizen
DESCRIPTION:
URL:https://jannysbrocante.nl/event/fair-enkhuizen/
LOCATION:Westerkerk Enkhuizen\, Westerstraat 138\, Enkhuizen\, 1601AN
CATEGORIES:Waar staan wij?
ATTACH;FMTTYPE=image/jpeg:https://jannysbrocante.nl/wp-content/uploads/2024/11/PSX_20250124_225423.jpg
END:VEVENT
BEGIN:VEVENT
DTSTART;VALUE=DATE:20260221
DTEND;VALUE=DATE:20260222
DTSTAMP:20260419T213719
CREATED:20260114T211704Z
LAST-MODIFIED:20260118T143532Z
UID:896-1771632000-1771718399@jannysbrocante.nl
SUMMARY:Brocante en vintage in de Laurenskerk
DESCRIPTION:
URL:https://jannysbrocante.nl/event/brocante-in-de-laurenskerk/
LOCATION:Laurenskerk\, Grotekerkplein 27\, Rotterdam\, 3011 GC
CATEGORIES:Waar staan wij?
ATTACH;FMTTYPE=image/jpeg:https://jannysbrocante.nl/wp-content/uploads/2023/04/Afbeelding1-e1737756918369.jpg
END:VEVENT
BEGIN:VEVENT
DTSTART;VALUE=DATE:20260124
DTEND;VALUE=DATE:20260127
DTSTAMP:20260419T213719
CREATED:20260117T185334Z
LAST-MODIFIED:20260118T143315Z
UID:973-1769216400-1769389199@jannysbrocante.nl
SUMMARY:Brocante d' Hiver op kasteelGeldrop
DESCRIPTION:
URL:https://jannysbrocante.nl/event/brocante-d-hiver-op-kasteelgeldrop/
LOCATION:kasteel Geldrop\, Mierloseweg 1\, Geldrop\, 5662KA
CATEGORIES:Waar staan wij?
ATTACH;FMTTYPE=image/jpeg:https://jannysbrocante.nl/wp-content/uploads/2025/03/PSX_20250321_203523-e1742586023567.jpg
END:VEVENT
BEGIN:VEVENT
DTSTART;VALUE=DATE:20250531
DTEND;VALUE=DATE:20250602
DTSTAMP:20260419T213719
CREATED:20230324T205020Z
LAST-MODIFIED:20250125T171949Z
UID:747-1748649600-1748822399@jannysbrocante.nl
SUMMARY:Bohemian en brocante op kasteel Aldendriel
DESCRIPTION:
URL:https://jannysbrocante.nl/event/brocante-en-lamdelijk-op-kasteel-aldendriel/
LOCATION:Kasteel Aldendriel\, Kasteelsestraat 4\, Mill\, 5451 NX
CATEGORIES:Waar staan wij?
ATTACH;FMTTYPE=image/jpeg:https://jannysbrocante.nl/wp-content/uploads/2025/01/20240602_124605-scaled-e1737788147546.jpg
END:VEVENT
END:VCALENDAR